Workbook
Name \a: #REF!
Name \b: #N/A
Name \c: #REF!
Name \d: '[2]SAN REDUCED 1'!#REF!
Name \e: #N/A
Name \f: #REF!
Name \h: #REF!
Name \i: #N/A
Name \l: #REF!
Name \o: #N/A
Name \p: #N/A
Name \q: #N/A
Name \r: #REF!
Name \s: #REF!
Name \w: #N/A
Name \x: #REF!
Name \z: #N/A
Name _____TP2: #REF!
Name ____str1: #REF!
Name ____str2: #REF!
Name ____str3: #REF!
Name ____TP2: #REF!
Name ___DOO1: #REF!
Name ___str1: #REF!
Name ___str2: #REF!
Name ___str3: #REF!
Name ___TP2: #REF!
Name ___WIN1: #REF!
Name __day1: #REF!
Name __day10: #REF!
Name __day11: #REF!
Name __day12: #REF!
Name __day13: #REF!
Name __day19: #REF!
Name __day2: #REF!
Name __day3: #REF!
Name __day4: #REF!
Name __day5: #REF!
Name __day6: #REF!
Name __day7: #REF!
Name __day8: #REF!
Name __day9: #REF!
Name __DOO1: #REF!
Name __FAC1: [4]สรุป!$C$307
Name __str1: #REF!
Name __str2: #REF!
Name __str3: #REF!
Name __TP2: #REF!
Name __WIN1: #REF!
Name __xlfn_BAHTTEXT: NA()
Name _10: #REF!
Name _11: #REF!
Name _12: #REF!
Name _13: #REF!
Name _14: #REF!
Name _15: #REF!
Name _16: #REF!
Name _17: #REF!
Name _18: #REF!
Name _19: #REF!

Sheet BOQ
A1: แบบสรุปรายการและปริมาณงาน
A3: โครงการ | B3: : โครงการปรับปรุงระบบระบายน้ำรอบอาคาร และงานภูมิทัศน์ โรงเรียน สามเสนวิทยาลัย
A4: สถานที่ | B4: : 132 /11 ถ.พระรามที่6 แขวง พญาไท เขต พญาไท กรุงเทพมหานคร 10400
A5: หน่วยงานเจ้าของโครงการ/งานก่อสร้าง : สมาคมผู้ปกครองและครูโรงเรียนสามเสนวิทยาลัย
A6: รายการ | B6: =B10 -> สรุปราคาประมาณการ | I6: ประมาณราคาเมื่อวันที่
J7: หน่วย : บาท
A8: ลำดับที่ | C8: จำนวน | D8: หน่วย | E8: ค่าวัสดุ | G8: ค่าแรงงาน | I8: รวมค่าวัสดุ | J8: หมายเหตุ
E9: ราคา/หน่วย | F9: จำนวนเงิน | G9: ราคา/หน่วย | H9: จำนวนเงิน | I9: และแรงงาน
B10: สรุปราคาประมาณการ
A11: 1 | B11: =เตรียมการ!B10 -> งานเตรียมการ | C11: 1 | D11: งาน | F11: =เตรียมการ!F26 -> 0 | H11: =เตรียมการ!H26 -> 0 | I11: =SUM(F11,H11) -> 0
A12: 2 | B12: =ท่อน้ำ!B11 -> งานวางท่อระบายน้ำ คสล.และบ่อพัก | C12: 1 | D12: งาน | F12: =ท่อน้ำ!F26 -> 0 | H12: =ท่อน้ำ!H26 -> 0 | I12: =SUM(F12,H12) -> 0
A13: 3 | B13: =บ่อ!B11 -> งานบ่อหน่วงน้ำ | C13: 1 | D13: งาน | F13: =บ่อ!F28 -> 0 | H13: =บ่อ!H28 -> 0 | I13: =SUM(F13,H13) -> 0
A14: 4 | B14: =pump!B11 -> ปั๊มน้ำและอุปกรณ์ | C14: 1 | D14: งาน | F14: =pump!F32 -> 0 | H14: =pump!H32 -> 0 | I14: =SUM(F14,H14) -> 0
A15: 5 | B15: =สวน!B11 -> งานก่อสร้างงานภูมิสถาปัตย์ | C15: 1 | D15: งาน | F15: =สวน!F31 -> 0 | H15: =สวน!H31 -> 0 | I15: =SUM(F15,H15) -> 0
B19: รวม | F19: =SUM(F11:F18) -> 0 | H19: =SUM(H11:H18) -> 0 | I19: =SUM(I11:I18) -> 0
B20: ค่าดำเนินการและกำไร | I20: =I19*15% -> 0
B21: รวม | I21: =SUM(I19:I20) -> 0
B22: ภาษีมูลค่าเพิ่ม 7% | I22: =I21*7% -> 0
B23: รวมเป็นเงินทั้งสิ้น | I23: =SUM(I21:I22) -> 0

Sheet เตรียมการ
A1: แบบสรุปรายการและปริมาณงาน
A3: โครงการ | B3: : โครงการปรับปรุงระบบระบายน้ำรอบอาคาร และงานภูมิทัศน์ โรงเรียน สามเสนวิทยาลัย
A4: สถานที่ | B4: : 132 /11 ถ.พระรามที่6 แขวง พญาไท เขต พญาไท กรุงเทพมหานคร 10400
A5: หน่วยงานเจ้าของโครงการ/งานก่อสร้าง : สมาคมผู้ปกครองและครูโรงเรียนสามเสนวิทยาลัย
A6: รายการ | B6: =B10 -> งานเตรียมการ
J7: หน่วย : บาท
A8: ลำดับที่ | C8: จำนวน | D8: หน่วย | E8: ค่าวัสดุ | G8: ค่าแรงงาน | I8: รวมค่าวัสดุ | J8: หมายเหตุ
E9: ราคา/หน่วย | F9: จำนวนเงิน | G9: ราคา/หน่วย | H9: จำนวนเงิน | I9: และแรงงาน
A10: 1 | B10: งานเตรียมการ
A11: 1.1 | B11: งานกั้นรั้วรอบบริเวณชั่วคราว | D11: เหมา | F11: =C11*E11 -> 0 | H11: =C11*G11 -> 0 | I11: =SUM(F11,H11) -> 0
A12: 1.2 | B12: ค่าไฟฟ้า รวมติดตั้งชั่วคราว | D12: เดือน | F12: =C12*E12 -> 0 | H12: =C12*G12 -> 0 | I12: =SUM(F12,H12) -> 0
A13: 1.3 | B13: ค่าน้ำประปา รวมติดตั้งชั่วคราว | D13: เดือน | F13: =C13*E13 -> 0 | H13: =C13*G13 -> 0 | I13: =SUM(F13,H13) -> 0
A14: 1.4 | B14: โรงเก็บวัสดุชั่วคราว | D14: เหมา | F14: =C14*E14 -> 0 | H14: =C14*G14 -> 0 | I14: =SUM(F14,H14) -> 0
A15: 1.5 | B15: ค่าเดินทาง | D15: เดือน | F15: =C15*E15 -> 0 | H15: =C15*G15 -> 0 | I15: =SUM(F15,H15) -> 0
A16: 1.6 | B16: ค่าเครื่องมือก่อสร้าง | D16: เหมา | F16: =C16*E16 -> 0 | H16: =C16*G16 -> 0 | I16: =SUM(F16,H16) -> 0
A17: 1.7 | B17: ค่าทำความสะอาด | D17: เหมา | F17: =C17*E17 -> 0 | H17: =C17*G17 -> 0 | I17: =SUM(F17,H17) -> 0
A18: 1.8 | B18: ค่าทำแบบ Shop drawing | D18: เหมา | F18: =C18*E18 -> 0 | H18: =C18*G18 -> 0 | I18: =SUM(F18,H18) -> 0
A19: 1.9 | B19: ค่าพนักงานควบคุมงาน | D19: เดือน | F19: =C19*E19 -> 0 | H19: =C19*G19 -> 0 | I19: =SUM(F19,H19) -> 0
A20: 1.1 | B20: ค่าประกันงานก่อสร้างและอากรแสตมป์ | D20: เหมา | F20: =C20*E20 -> 0 | H20: =C20*G20 -> 0 | I20: =SUM(F20,H20) -> 0
B26: รวมงานเตรียมการ | F26: =SUM(F11:F25) -> 0 | H26: =SUM(H11:H25) -> 0 | I26: =SUM(F26,H26) -> 0

Sheet ท่อน้ำ
A1: แบบสรุปรายการและปริมาณงาน
A3: โครงการ | B3: : โครงการปรับปรุงระบบระบายน้ำรอบอาคาร และงานภูมิทัศน์ โรงเรียน สามเสนวิทยาลัย
A4: สถานที่ | B4: : 132 /11 ถ.พระรามที่6 แขวง พญาไท เขต พญาไท กรุงเทพมหานคร 10400
A5: หน่วยงานเจ้าของโครงการ/งานก่อสร้าง : สมาคมผู้ปกครองและครูโรงเรียนสามเสนวิทยาลัย
A6: รายการ | B6: =B10 -> ระบบระบายน้ำ
J7: หน่วย : บาท
A8: ลำดับที่ | C8: จำนวน | D8: หน่วย | E8: ค่าวัสดุ | G8: ค่าแรงงาน | I8: รวมค่าวัสดุ | J8: หมายเหตุ
E9: ราคา/หน่วย | F9: จำนวนเงิน | G9: ราคา/หน่วย | H9: จำนวนเงิน | I9: และแรงงาน
B10: ระบบระบายน้ำ
A11: 2 | B11: งานวางท่อระบายน้ำ คสล.และบ่อพัก
A12: 2.1 | B12: ขุดดิน รื้อถอนและขนย้าย (รวมเครื่องจักรและรถบรรทุก) | D12: เมตร | F12: =C12*E12 -> 0 | H12: =C12*G12 -> 0 | I12: =SUM(F12,H12) -> 0
A13: 2.2 | B13: ทรายหยาบรองท่อ และถมกลับข้างท่อ | D13: ลบ.ม. | F13: =C13*E13 -> 0 | H13: =C13*G13 -> 0 | I13: =SUM(F13,H13) -> 0
A14: 2.3 | B14: คอนกรีตหยาบรองท่อ | D14: ลบ.ม. | F14: =C14*E14 -> 0 | H14: =C14*G14 -> 0 | I14: =SUM(F14,H14) -> 0
A15: 2.4 | B15: พื้นคอนกรีตถนน เสริม Wiremesh (คืนสภาพพื้นผิวเดิม) | D15: ตร.ม. | F15: =C15*E15 -> 0 | H15: =C15*G15 -> 0 | I15: =SUM(F15,H15) -> 0
A16: 2.5 | B16: งานพื้นผิวกระเบื้องและคอนกรีตพิมพ์ลาย (คืนสภาพผิวเดิม) | D16: ตร.ม. | F16: =C16*E16 -> 0 | H16: =C16*G16 -> 0 | I16: =SUM(F16,H16) -> 0
A17: 2.6 | B17: ท่อระบายน้ำ คสล.ชั้น 3 ขนาด Ø 0.60 m | D17: เมตร | F17: =C17*E17 -> 0 | H17: =C17*G17 -> 0 | I17: =SUM(F17,H17) -> 0
A18: 2.7 | B18: บ่อพักน้ำ คสล. พร้อมฝา | D18: บ่อ | F18: =C18*E18 -> 0 | H18: =C18*G18 -> 0 | I18: =SUM(F18,H18) -> 0
A19: 2.6 | B19: รางระบายน้ำคอนกรีต พร้อมฝาคอนกรีต | D19: เมตร | F19: =C19*E19 -> 0 | H19: =C19*G19 -> 0 | I19: =SUM(F19,H19) -> 0
A20: 2.8 | B20: บ่อดักขยะคอนกรีตเสริมเหล็กพร้อมตะแกรงกันขยะ | D20: บ่อ | F20: =C20*E20 -> 0 | H20: =C20*G20 -> 0 | I20: =SUM(F20,H20) -> 0
B21: พร้อมฝาตะแกรงเหล็ก
B26: รวมระบบระบายน้ำ | F26: =SUM(F12:F25) -> 0 | H26: =SUM(H12:H25) -> 0 | I26: =SUM(F26,H26) -> 0

Sheet บ่อ
A1: แบบสรุปรายการและปริมาณงาน
A3: โครงการ | B3: : โครงการปรับปรุงระบบระบายน้ำรอบอาคาร และงานภูมิทัศน์ โรงเรียน สามเสนวิทยาลัย
A4: สถานที่ | B4: : 132 /11 ถ.พระรามที่6 แขวง พญาไท เขต พญาไท กรุงเทพมหานคร 10400
A5: หน่วยงานเจ้าของโครงการ/งานก่อสร้าง : สมาคมผู้ปกครองและครูโรงเรียนสามเสนวิทยาลัย
A6: รายการ | B6: =B10 -> บ่อหน่วงน้ำ
J7: หน่วย : บาท
A8: ลำดับที่ | C8: จำนวน | D8: หน่วย | E8: ค่าวัสดุ | G8: ค่าแรงงาน | I8: รวมค่าวัสดุ | J8: หมายเหตุ
E9: ราคา/หน่วย | F9: จำนวนเงิน | G9: ราคา/หน่วย | H9: จำนวนเงิน | I9: และแรงงาน
B10: บ่อหน่วงน้ำ
A11: 3 | B11: งานบ่อหน่วงน้ำ
A12: 3.1 | B12: งานเสาเข็ม Micro Pile 18x18cm l=18.00m. | D12: ต้น | F12: =C12*E12 -> 0 | H12: =C12*G12 -> 0 | I12: =SUM(F12,H12) -> 0
A13: 3.2 | B13: ขุดดิน/ถมกลับ | D13: ลบ.ม. | F13: =C13*E13 -> 0 | H13: =C13*G13 -> 0 | I13: =SUM(F13,H13) -> 0
A14: 3.3 | B14: ทรายหยาบรองท่อ และถมกลับ | D14: ลบ.ม. | F14: =C14*E14 -> 0 | H14: =C14*G14 -> 0 | I14: =SUM(F14,H14) -> 0
A15: 3.4 | B15: คอนกรีตหยาบ | D15: ลบ.ม. | F15: =C15*E15 -> 0 | H15: =C15*G15 -> 0 | I15: =SUM(F15,H15) -> 0
A16: 3.5 | B16: คอนกรีตโครงสร้าง กำลังอัด >240 KSC CYLINDER | D16: ลบ.ม. | F16: =C16*E16 -> 0 | H16: =C16*G16 -> 0 | I16: =SUM(F16,H16) -> 0
A17: 3.6 | B17: ไม้แบบ | D17: ตร.ม. | F17: =C17*E17 -> 0 | H17: =C17*G17 -> 0 | I17: =SUM(F17,H17) -> 0
A18: 3.7 | B18: เหล็กเสริมคอนกรีต
A19: 3.7.1 | B19: RB 9 mm. SR24 | D19: กก. | F19: =C19*E19 -> 0 | H19: =C19*G19 -> 0 | I19: =SUM(F19,H19) -> 0
A20: 3.7.2 | B20: DB 12 mm. SD40 | D20: กก. | F20: =C20*E20 -> 0 | H20: =C20*G20 -> 0 | I20: =SUM(F20,H20) -> 0
A21: 3.7.3 | B21: DB 16 mm. SD40 | D21: กก. | F21: =C21*E21 -> 0 | H21: =C21*G21 -> 0 | I21: =SUM(F21,H21) -> 0
A22: 3.7.4 | B22: DB 20 mm. SD40 | D22: กก. | F22: =C22*E22 -> 0 | H22: =C22*G22 -> 0 | I22: =SUM(F22,H22) -> 0
A23: 3.8 | B23: Water stop 8" 3 ปุ่ม หนา 9.5 มม. | D23: m | F23: =C23*E23 -> 0 | H23: =C23*G23 -> 0 | I23: =SUM(F23,H23) -> 0
A24: 3.8 | B24: ป้องกันดินพังและสูบน้ำ | D24: เหมา | F24: =C24*E24 -> 0 | H24: =C24*G24 -> 0 | I24: =SUM(F24,H24) -> 0
A25: 3.9 | B25: ฝาเหล็กหล่อ 0.60x0.60ม. มีเฟรมป้องกันกลิ่น | D25: ฝา | F25: =C25*E25 -> 0 | H25: =C25*G25 -> 0 | I25: =SUM(F25,H25) -> 0
F27: =C27*E27 -> 0 | H27: =C27*G27 -> 0 | I27: =SUM(F27,H27) -> 0
B28: รวมงานบ่อหน่วงน้ำ | F28: =SUM(F12:F27) -> 0 | H28: =SUM(H12:H27) -> 0 | I28: =SUM(I12:I27) -> 0

Sheet pump
A1: แบบสรุปรายการและปริมาณงาน
A3: โครงการ | B3: : โครงการปรับปรุงระบบระบายน้ำรอบอาคาร และงานภูมิทัศน์ โรงเรียน สามเสนวิทยาลัย
A4: สถานที่ | B4: : 132 /11 ถ.พระรามที่6 แขวง พญาไท เขต พญาไท กรุงเทพมหานคร 10400
A5: หน่วยงานเจ้าของโครงการ/งานก่อสร้าง : สมาคมผู้ปกครองและครูโรงเรียนสามเสนวิทยาลัย
A6: รายการ | B6: =B10 -> ระบบปั๊มน้ำและอุปกรณ์
J7: หน่วย : บาท
A8: ลำดับที่ | C8: จำนวน | D8: หน่วย | E8: ค่าวัสดุ | G8: ค่าแรงงาน | I8: รวมค่าวัสดุ | J8: หมายเหตุ
E9: ราคา/หน่วย | F9: จำนวนเงิน | G9: ราคา/หน่วย | H9: จำนวนเงิน | I9: และแรงงาน
B10: ระบบปั๊มน้ำและอุปกรณ์
A11: 4 | B11: ปั๊มน้ำและอุปกรณ์
A12: 4.1 | B12: ปั๊มน้ำ 6" Vertical Turbine Pump. 4 phase/380 V. | D12: ชุด | F12: =C12*E12 -> 0 | H12: =C12*G12 -> 0 | I12: =SUM(F12,H12) -> 0
B13: Max flow 300m³/h Moter power 7.5 Kw/10Hp
B14: Speed 1450 rpm.
B15: ระบบไฟฟ้า Low Voltage System (ระบบไฟฟ้าแรงต่ำ)
A16: 4.2 | B16: ตู้ควบคุม (SNMCC-PBS) | D16: เหมา | F16: =C16*E16 -> 0 | H16: =C16*G16 -> 0 | I16: =SUM(F16,H16) -> 0
B17: Main Feeder (สายป้อนไฟฟ้า)
A18: 4.3 | B18: Cable (สายไฟ)NYY 16 Sq.mm. | D18: เมตร | F18: =C18*E18 -> 0 | H18: =C18*G18 -> 0 | I18: =SUM(F18,H18) -> 0
A19: 4.4 | B19: Cable (สายไฟ)NYY 6 Sq.mm. | D19: เมตร | F19: =C19*E19 -> 0 | H19: =C19*G19 -> 0 | I19: =SUM(F19,H19) -> 0
B20: Raceway (ทางเดินสายไฟ)
A21: 4.5 | B21: Dia 50mm. HDPE Class 1 / PN6 | D21: เมตร | F21: =C21*E21 -> 0 | H21: =C21*G21 -> 0 | I21: =SUM(F21,H21) -> 0
A22: 4.6 | B22: Accessories (อุปกรณ์ประกอบ) | D22: เหมา | F22: =C22*E22 -> 0 | H22: =C22*G22 -> 0 | I22: =SUM(F22,H22) -> 0
B23: Branch Circuit (สายวงจรย่อย)
A24: 4.7 | B24: Cable (สายไฟ)NYY 2.5 Sq.mm. | D24: เมตร | F24: =C24*E24 -> 0 | H24: =C24*G24 -> 0 | I24: =SUM(F24,H24) -> 0
B25: Raceway (ทางเดินสายไฟ)
A26: 4.8 | B26: Dia 32mm. HDPA Class 1 / PN6 | D26: เมตร | F26: =C26*E26 -> 0 | H26: =C26*G26 -> 0 | I26: =SUM(F26,H26) -> 0
A27: 4.9 | B27: Accessories (อุปกรณ์ประกอบ) | D27: เหมา | F27: =C27*E27 -> 0 | H27: =C27*G27 -> 0 | I27: =SUM(F27,H27) -> 0
A28: 4.1 | B28: HDPE 80 Class PN 10 (จากเครื่องสูบน้ำ) | D28: เหมา | F28: =C28*E28 -> 0 | H28: =C28*G28 -> 0 | I28: =SUM(F28,H28) -> 0
A29: 4.11 | B29: ข้อต่อ และอุปกรณ์ยึดท่อ เหล็กยึดท่อ | D29: เหมา | F29: =C29*E29 -> 0 | H29: =C29*G29 -> 0 | I29: =SUM(F29,H29) -> 0
A30: 4.12 | B30: ทำความสะอาด ทาสี สัญลักษณ์ | D30: เหมา | F30: =C30*E30 -> 0 | H30: =C30*G30 -> 0 | I30: =SUM(F30,H30) -> 0
A31: 4.13 | B31: Function Test / Commissioning | D31: เหมา | F31: =C31*E31 -> 0 | H31: =C31*G31 -> 0 | I31: =SUM(F31,H31) -> 0
B32: รวมระบบปั๊มน้ำและอุปกรณ์ | F32: =SUM(F12:F31) -> 0 | H32: =SUM(H12:H31) -> 0 | I32: =SUM(F32,H32) -> 0

Sheet สวน
A1: แบบสรุปรายการและปริมาณงาน
A3: โครงการ | B3: : โครงการปรับปรุงระบบระบายน้ำรอบอาคาร และงานภูมิทัศน์ โรงเรียน สามเสนวิทยาลัย
A4: สถานที่ | B4: : 132 /11 ถ.พระรามที่6 แขวง พญาไท เขต พญาไท กรุงเทพมหานคร 10400
A5: หน่วยงานเจ้าของโครงการ/งานก่อสร้าง : สมาคมผู้ปกครองและครูโรงเรียนสามเสนวิทยาลัย
A6: รายการ | B6: =B10 -> งานปรับภูมิทัศน์รอบบริเวณ
J7: หน่วย : บาท
A8: ลำดับที่ | C8: จำนวน | D8: หน่วย | E8: ค่าวัสดุ | G8: ค่าแรงงาน | I8: รวมค่าวัสดุ | J8: หมายเหตุ
E9: ราคา/หน่วย | F9: จำนวนเงิน | G9: ราคา/หน่วย | H9: จำนวนเงิน | I9: และแรงงาน
B10: งานปรับภูมิทัศน์รอบบริเวณ
A11: 5 | B11: งานก่อสร้างงานภูมิสถาปัตย์ | F11: =C11*E11 -> 0 | H11: =C11*G11 -> 0 | I11: =SUM(F11,H11) -> 0
A12: 5.1 | B12: ทางเดิน คสล.กว้าง 1 เมตร พื้นผิวคอนกรีตผสมสีขัดหยาบ | D12: ตรม. | F12: =C12*E12 -> 0 | H12: =C12*G12 -> 0 | I12: =SUM(F12,H12) -> 0
B13: ตีเส้นกันลื่น
A14: 5.2 | B14: ลานจอดรถจักรยาน พื้นคอนกรีตขัดมันเรียบ | D14: ตรม. | F14: =C14*E14 -> 0 | H14: =C14*G14 -> 0 | I14: =SUM(F14,H14) -> 0
B15: ตีเส้นกันลื่น
A16: 5.3 | B16: โคมไฟสนาม ชนิดติดภายนอก แสงส่องลงพื้น | D16: ชุด | F16: =C16*E16 -> 0 | H16: =C16*G16 -> 0 | I16: =SUM(F16,H16) -> 0
B17: โคมสีดำ วัสดุเป็นอลูมิเนียมไม่ขึ้นสนิม ใช้ภายนอกได้
B18: กันน้ำกันฝุ่น ความสูง 3.00 ม.
B19: LED 7W 3000K 560 Lumen
A20: 5.4 | B20: สายไฟ NYY IEC10 NYY 3x2.5 with Accessries | D20: เมตร | F20: =C20*E20 -> 0 | H20: =C20*G20 -> 0 | I20: =SUM(F20,H20) -> 0
B21: (ใช้ตู้เมนร่วมกับระบบปั๊มน้ำ แยกเบรคเกอร์ควบคุม)
A22: 5.4 | B22: กระบะปลูกต้นไม้ริมรั้ว คสล.สูง 0.60 ม. | D22: เมตร | F22: =C22*E22 -> 0 | H22: =C22*G22 -> 0 | I22: =SUM(F22,H22) -> 0
A23: 5.5 | B23: รื้อถอนรั้วคอนกรีตเสริมเหล็กเดิม | D23: เหมา | F23: =C23*E23 -> 0 | H23: =C23*G23 -> 0 | I23: =SUM(F23,H23) -> 0
A24: 5.6 | B24: ก่อสร้างรั้วคอนกรีตเสริมเหล็ก(ปรับแนวตรง) | D24: เหมา | F24: =C24*E24 -> 0 | H24: =C24*G24 -> 0 | I24: =SUM(F24,H24) -> 0
A25: 5.7 | B25: พื้นผิวทางเท้านอกรั้ว คืนสภาพทางเท้าเดิม | D25: ตรม. | F25: =C25*E25 -> 0 | H25: =C25*G25 -> 0 | I25: =SUM(F25,H25) -> 0
B26: วัสดุพื้นผิวให้ใช้ตามผิวทางเท้าเดิม
A27: 5.8 | B27: พื้นบล็อคปูหญ้า ขนาด 25x40x8 Cm. | D27: ตรม. | F27: =C27*E27 -> 0 | H27: =C27*G27 -> 0 | I27: =SUM(F27,H27) -> 0
B31: รวมงานปรับภูมิทัศน์รอบบริเวณ | F31: =SUM(F10:F30) -> 0 | H31: =SUM(H10:H30) -> 0 | I31: =SUM(F31,H31) -> 0
